BEGIN:VCALENDAR
VERSION:2.0
PRODID:-//Rottler Manufacturing - ECPv6.15.20//NONSGML v1.0//EN
CALSCALE:GREGORIAN
METHOD:PUBLISH
X-WR-CALNAME:Rottler Manufacturing
X-ORIGINAL-URL:https://rottlerdynamics.com
X-WR-CALDESC:Events for Rottler Manufacturing
REFRESH-INTERVAL;VALUE=DURATION:PT1H
X-Robots-Tag:noindex
X-PUBLISHED-TTL:PT1H
BEGIN:VTIMEZONE
TZID:America/Los_Angeles
BEGIN:DAYLIGHT
TZOFFSETFROM:-0800
TZOFFSETTO:-0700
TZNAME:PDT
DTSTART:20250309T100000
END:DAYLIGHT
BEGIN:STANDARD
TZOFFSETFROM:-0700
TZOFFSETTO:-0800
TZNAME:PST
DTSTART:20251102T090000
END:STANDARD
BEGIN:DAYLIGHT
TZOFFSETFROM:-0800
TZOFFSETTO:-0700
TZNAME:PDT
DTSTART:20260308T100000
END:DAYLIGHT
BEGIN:STANDARD
TZOFFSETFROM:-0700
TZOFFSETTO:-0800
TZNAME:PST
DTSTART:20261101T090000
END:STANDARD
BEGIN:DAYLIGHT
TZOFFSETFROM:-0800
TZOFFSETTO:-0700
TZNAME:PDT
DTSTART:20270314T100000
END:DAYLIGHT
BEGIN:STANDARD
TZOFFSETFROM:-0700
TZOFFSETTO:-0800
TZNAME:PST
DTSTART:20271107T090000
END:STANDARD
END:VTIMEZONE
BEGIN:VEVENT
DTSTART;VALUE=DATE:20260722
DTEND;VALUE=DATE:20260725
DTSTAMP:20260422T100449
CREATED:20260219T214110Z
LAST-MODIFIED:20260303T194949Z
UID:3609-1784678400-1784937599@rottlerdynamics.com
SUMMARY:2026 CAT Tech Conference
DESCRIPTION:July 22-24\, 2026\nRottler Manufacturing\, Kent\, Washington\nRegister Now\n \nEvent Overview\nJoin us for the premiere technology event exclusively for Caterpillar Remanufacturing Center (CRC) personnel. This 3-day event will feature in-depth educational demonstrations and presentations to help CRC professionals and machinists learn about the latest CAT remanufacturing tools and techniques as well as sharpen their reman skills. \nThe CAT Tech Conference (CTC) will be held at Rottler Manufacturing’s global headquarters in Kent\, Washington. Numerous industry guests will be on hand for demos and tech seminars. \nEvent Details\nDates:\nJuly 22-24\, 2026 \nCost:\nFREE \nLocation:\nRottler Manufacturing\, LLC\n8029 South 200th Street\nKent\, Washington 98032\nUSA \nEvent Manager:\nNick Jenkins\, Applications Engineer\nHigh Horsepower Diesel Product Expert\ne: Nick@rottlermfg.com\nt: +1 (206) 406-1880 \nLodging:\nHilton Garden Inn Seattle Airport\n3056 South 188th Street\nSeaTac\, WA\, 98188\, US\nt: +1-206-259-2266 \nNote: Use the button below to secure the Rottler corporate rate:Book a Reservation \nRegistration\nPlease complete the form below to reserve a spot and receive conference updates as they become available. Space is limited\, so register early! \nFirst Name *Last Name *Job TitleCompany *Email Address *TelStreet AddressSuite / BldgCityState/ProvinceZIP / Postal CodeCountryAfghanistanAlbaniaAlgeriaAmerican SamoaAndorraAngolaAnguillaAntarcticaAntigua and BarbudaArgentinaArmeniaArubaAustraliaAustriaAzerbaijanBahamasBahrainBangladeshBarbadosBelarusBelgiumBelizeBeninBermudaBhutanBoliviaBosnia and HerzegovinaBotswanaBouvet IslandBrazilBritish Indian Ocean TerritoryBruneiBulgariaBurkina FasoBurundiCabo VerdeCambodiaCameroonCanadaCayman IslandsCentral African RepublicChadChileChina\, People's Republic ofChristmas IslandCocos IslandsColombiaComorosCongo\, Democratic Republic of theCongo\, Republic of theCook IslandsCosta RicaCroatiaCubaCuraçaoCyprusCzech RepublicCôte d'IvoireDenmarkDjiboutiDominicaDominican RepublicEast TimorEcuadorEgyptEl SalvadorEquatorial GuineaEritreaEstoniaEthiopiaFalkland IslandsFaroe IslandsFijiFinlandFranceFrance\, MetropolitanFrench GuianaFrench PolynesiaFrench South TerritoriesGabonGambiaGeorgiaGermanyGhanaGibraltarGreeceGreenlandGrenadaGuadeloupeGuamGuatemalaGuernseyGuineaGuinea-BissauGuyanaHaitiHeard Island And Mcdonald IslandHondurasHong KongHungaryIcelandIndiaIndonesiaIranIraqIrelandIsraelItalyJamaicaJapanJerseyJohnston IslandJordanKazakhstanKenyaKiribatiKorea\, Democratic People's Republic ofKorea\, Republic ofKosovoKuwaitKyrgyzstanLao People's Democratic RepublicLatviaLebanonLesothoLiberiaLibyaLiechtensteinLithuaniaLuxembourgMacauMadagascarMalawiMalaysiaMaldivesMaliMaltaMarshall IslandsMartiniqueMauritaniaMauritiusMayotteMexicoMicronesiaMoldovaMonacoMongoliaMontenegroMontserratMoroccoMozambiqueMyanmarNamibiaNauruNepalNetherlandsNetherlands AntillesNew CaledoniaNew ZealandNicaraguaNigerNigeriaNiueNorfolk IslandNorth MacedoniaNorthern Mariana IslandsNorwayOmanPakistanPalauPalestine\, State ofPanamaPapua New GuineaParaguayPeruPhilippinesPitcairn IslandsPolandPortugalPuerto RicoQatarReunion IslandRomaniaRussiaRwandaSaint HelenaSaint Kitts and NevisSaint LuciaSaint Pierre & MiquelonSaint Vincent and the GrenadinesSamoaSan MarinoSao Tome and PrincipeSaudi ArabiaSenegalSerbiaSeychellesSierra LeoneSingaporeSint MaartenSlovakiaSloveniaSolomon IslandsSomaliaSouth AfricaSouth Georgia and South SandwichSpainSri LankaStateless PersonsSudanSudan\, SouthSurinameSvalbard and Jan MayenSwazilandSwedenSwitzerlandSyriaTaiwan\, Republic of ChinaTajikistanTanzaniaThailandTogoTokelauTongaTrinidad and TobagoTunisiaTurkeyTurkmenistanTurks And Caicos IslandsTuvaluUS Minor Outlying IslandsUgandaUkraineUnited Arab EmiratesUnited KingdomUnited States of America (USA)UruguayUzbekistanVanuatuVatican CityVenezuelaVietnamVirgin Islands\, BritishVirgin Islands\, U.S.Wallis And Futuna IslandsWestern SaharaYemenZambiaZimbabweIndustryPlease tell us the industry you serve (check all that apply)MiningOil & GasPower GenerationMarineLocomotiveOn-highway TransportationConstructionForestry/AgricultureOtherOther IndustryAreas of InterestWhat are some topics and/or components you would like to discuss/learn more about?Special EventsWould you like to attend any of the following offsite events? (Check all that apply)Top Golf Night (Thurs.\, July 23)NHRA Drag Races (Fri.\, July 24)Register
URL:https://rottlerdynamics.com/event/2026-cat-tech-conference/
LOCATION:Rottler Manufacturing HQ\, 8029 S 200th St\, Kent\, WA\, 98032\, United States
CATEGORIES:Tech Event
ATTACH;FMTTYPE=image/jpeg:https://rottlerdynamics.com/wp-content/uploads/2026/02/ctc-2026-fi-1920x1080-1.jpg
ORGANIZER;CN="Nick Jenkins":MAILTO:nick@rottlermfg.com
END:VEVENT
BEGIN:VEVENT
DTSTART;VALUE=DATE:20261008
DTEND;VALUE=DATE:20261011
DTSTAMP:20260422T100449
CREATED:20260402T191510Z
LAST-MODIFIED:20260405T211949Z
UID:3682-1791417600-1791676799@rottlerdynamics.com
SUMMARY:Rottler Open House 2026
DESCRIPTION:Get Ready for the Industry Event of the Year!\nClick to Download the Rottler Open House 2026 Flyer \nThe wait is almost over. We are thrilled to officially invite you to the Rottler Open House 2026! \nFrom October 8–10\, 2026\, we’re throwing open the doors of our Kent\, Washington headquarters for three days of innovation\, education\, and celebration. \nThis isn’t just an event; it’s our way of saying thank you to the global community that keeps us moving forward. Whether you’re coming from across the state or across the ocean\, we can’t wait to welcome you to the heart of Rottler Manufacturing. [Click to register now] \nWhy You Can’t Miss It\nWe’re still fine-tuning the schedule\, but here’s a sneak peek at what’s in store: \n\nMaster the Machine: Deep-dive Tech Talks featuring the latest techniques\, tooling\, and tips to maximize your Rottler equipment.\nSee It in Action: Live product demonstrations and hands-on “how-to” sessions led by our expert machinists.\nLearn from the Best: Special guest speakers delivering exclusive educational presentations you won’t find anywhere else.\nThe Full Rottler Experience: Go behind the scenes with factory tours to meet the people who build the world’s leading machining solutions.\nWork Hard\, Play Hard: Fuel up with great food and music\, then join us for offsite adventures including a **Seattle Harbor Cruise** and high-speed Go-Karting!\n\nJoin Hundreds of Peers from Around the Globe\nWith up to 500 attendees traveling from all corners of the world\, this is the ultimate networking opportunity for Rottler customers and partners. Attendance is completely free\, but space fills up fast! \nStay in the Loop: Finalizing your travel? By registering today\, you’ll be the first to receive critical updates on: \n\nDetailed daily schedules and session times\nExclusive lodging discounts and hotel blocks\nTransportation and shuttle information\nSpecial event announcements\n\nDon’t miss a beat. Use the form on this page to register now and ensure you have all the information you need to make the most of your trip to Kent! \nRegister NowEvent Details\n\nOpen House 2026 \nDates:\nOctober 8-10\, 2026 \nLocation:\nRottler Manufacturing HQ\n8029 South 200th Street\nKent\, Washington 98032\nUSA \nEvent Cost:\nFREE \nEvent Contact:\nKarin Rottler\nTel: +1 253-872-7050\nEmail: karin@rottlermfg.com \nRegister Now\nComplete the registration form below to reserve your spot and receive event news and updates as they become available! \nFirst Name *Last Name *Job TitleCompanyEmail Address *TelStreet AddressSuite / BldgCityState/ProvinceZIP / Postal CodeCountryAfghanistanAlbaniaAlgeriaAmerican SamoaAndorraAngolaAnguillaAntarcticaAntigua and BarbudaArgentinaArmeniaArubaAustraliaAustriaAzerbaijanBahamasBahrainBangladeshBarbadosBelarusBelgiumBelizeBeninBermudaBhutanBoliviaBosnia and HerzegovinaBotswanaBouvet IslandBrazilBritish Indian Ocean TerritoryBruneiBulgariaBurkina FasoBurundiCabo VerdeCambodiaCameroonCanadaCayman IslandsCentral African RepublicChadChileChina\, People's Republic ofChristmas IslandCocos IslandsColombiaComorosCongo\, Democratic Republic of theCongo\, Republic of theCook IslandsCosta RicaCroatiaCubaCuraçaoCyprusCzech RepublicCôte d'IvoireDenmarkDjiboutiDominicaDominican RepublicEast TimorEcuadorEgyptEl SalvadorEquatorial GuineaEritreaEstoniaEthiopiaFalkland IslandsFaroe IslandsFijiFinlandFranceFrance\, MetropolitanFrench GuianaFrench PolynesiaFrench South TerritoriesGabonGambiaGeorgiaGermanyGhanaGibraltarGreeceGreenlandGrenadaGuadeloupeGuamGuatemalaGuernseyGuineaGuinea-BissauGuyanaHaitiHeard Island And Mcdonald IslandHondurasHong KongHungaryIcelandIndiaIndonesiaIranIraqIrelandIsraelItalyJamaicaJapanJerseyJohnston IslandJordanKazakhstanKenyaKiribatiKorea\, Democratic People's Republic ofKorea\, Republic ofKosovoKuwaitKyrgyzstanLao People's Democratic RepublicLatviaLebanonLesothoLiberiaLibyaLiechtensteinLithuaniaLuxembourgMacauMadagascarMalawiMalaysiaMaldivesMaliMaltaMarshall IslandsMartiniqueMauritaniaMauritiusMayotteMexicoMicronesiaMoldovaMonacoMongoliaMontenegroMontserratMoroccoMozambiqueMyanmarNamibiaNauruNepalNetherlandsNetherlands AntillesNew CaledoniaNew ZealandNicaraguaNigerNigeriaNiueNorfolk IslandNorth MacedoniaNorthern Mariana IslandsNorwayOmanPakistanPalauPalestine\, State ofPanamaPapua New GuineaParaguayPeruPhilippinesPitcairn IslandsPolandPortugalPuerto RicoQatarReunion IslandRomaniaRussiaRwandaSaint HelenaSaint Kitts and NevisSaint LuciaSaint Pierre & MiquelonSaint Vincent and the GrenadinesSamoaSan MarinoSao Tome and PrincipeSaudi ArabiaSenegalSerbiaSeychellesSierra LeoneSingaporeSint MaartenSlovakiaSloveniaSolomon IslandsSomaliaSouth AfricaSouth Georgia and South SandwichSpainSri LankaStateless PersonsSudanSudan\, SouthSurinameSvalbard and Jan MayenSwazilandSwedenSwitzerlandSyriaTaiwan\, Republic of ChinaTajikistanTanzaniaThailandTogoTokelauTongaTrinidad and TobagoTunisiaTurkeyTurkmenistanTurks And Caicos IslandsTuvaluUS Minor Outlying IslandsUgandaUkraineUnited Arab EmiratesUnited KingdomUnited States of America (USA)UruguayUzbekistanVanuatuVatican CityVenezuelaVietnamVirgin Islands\, BritishVirgin Islands\, U.S.Wallis And Futuna IslandsWestern SaharaYemenZambiaZimbabweAreas of InterestWhat are some topics and/or components you would like to discuss/learn more about?Special EventsWould you like to attend any of the following offsite events? (Check all that apply)Seattle Harbor Cruise (Thur. Oct. 8)Go-karting @SkyKart (Fri. Oct.9)Register
URL:https://rottlerdynamics.com/event/rottler-open-house-2026/
LOCATION:Rottler Manufacturing HQ\, 8029 S 200th St\, Kent\, WA\, 98032\, United States
CATEGORIES:Open House
ATTACH;FMTTYPE=image/webp:https://rottlerdynamics.com/wp-content/uploads/2026/04/open-house-header-1024x768-1.webp
ORGANIZER;CN="Karin Rottler":MAILTO:karin@rottlermfg.com
END:VEVENT
END:VCALENDAR